BEGIN:VCALENDAR
VERSION:2.0
PRODID:icalendar-ruby
CALSCALE:GREGORIAN
METHOD:PUBLISH
BEGIN:VEVENT
DTSTAMP:20260423T224128Z
UID:8-393819@pogch.org
DTSTART:20261104T031000Z
DTEND:20261104T040000Z
CLASS:PUBLIC
CREATED:20260423T140737
DESCRIPTION:Welcome to Tuesday Night Bible Study!!!
LAST-MODIFIED:20260423T140737
LOCATION:FaceBook\, You Tube\, Twitch
SUMMARY:Tuesday Night Services
URL;VALUE=URI:https://www.pogch.org/events/tuesday-night-services/2026-11-0
 3
END:VEVENT
END:VCALENDAR
