BEGIN:VCALENDAR
VERSION:2.0
PRODID:icalendar-ruby
CALSCALE:GREGORIAN
METHOD:PUBLISH
BEGIN:VEVENT
DTSTAMP:20260423T192842Z
UID:8-393513@pogch.org
DTSTART:20261021T021000Z
DTEND:20261021T030000Z
CLASS:PUBLIC
CREATED:20260423T111218
DESCRIPTION:Welcome to Tuesday Night Bible Study!!!
LAST-MODIFIED:20260423T111218
LOCATION:FaceBook\, You Tube\, Twitch
SUMMARY:Tuesday Night Services
URL;VALUE=URI:https://www.pogch.org/events/tuesday-night-services/2026-10-2
 0
END:VEVENT
END:VCALENDAR
