BEGIN:VCALENDAR
VERSION:2.0
PRODID:icalendar-ruby
CALSCALE:GREGORIAN
METHOD:PUBLISH
BEGIN:VEVENT
DTSTAMP:20260423T161740Z
UID:8-393207@pogch.org
DTSTART:20261007T021000Z
DTEND:20261007T030000Z
CLASS:PUBLIC
CREATED:20260423T081604
DESCRIPTION:Welcome to Tuesday Night Bible Study!!!
LAST-MODIFIED:20260423T081604
LOCATION:FaceBook\, You Tube\, Twitch
SUMMARY:Tuesday Night Services
URL;VALUE=URI:https://www.pogch.org/events/tuesday-night-services/2026-10-0
 6
END:VEVENT
END:VCALENDAR
