BEGIN:VCALENDAR
VERSION:2.0
PRODID:icalendar-ruby
CALSCALE:GREGORIAN
METHOD:PUBLISH
BEGIN:VEVENT
DTSTAMP:20260423T143422Z
UID:8-392902@pogch.org
DTSTART:20260930T021000Z
DTEND:20260930T030000Z
CLASS:PUBLIC
CREATED:20260423T052330
DESCRIPTION:Welcome to Tuesday Night Bible Study!!!
LAST-MODIFIED:20260423T052330
LOCATION:FaceBook\, You Tube\, Twitch
SUMMARY:Tuesday Night Services
URL;VALUE=URI:https://www.pogch.org/events/tuesday-night-services/2026-09-2
 9
END:VEVENT
END:VCALENDAR
