BEGIN:VCALENDAR
VERSION:2.0
PRODID:icalendar-ruby
CALSCALE:GREGORIAN
METHOD:PUBLISH
BEGIN:VEVENT
DTSTAMP:20260420T072002Z
UID:3-386742@pogch.org
DTSTART:20261011T163000Z
DTEND:20261011T190000Z
CLASS:PUBLIC
CREATED:20260419T204621
DESCRIPTION:Sunday Morning Pillar Worship Service
LAST-MODIFIED:20260419T204621
LOCATION:FaceBook\, You Tube\, Twitch
SUMMARY:Sunday Morning 
URL;VALUE=URI:https://www.pogch.org/events/sunday-morning/2026-10-11
ATTACH;FILENAME=2.png;FMTTYPE=image/png:https://dq5pwpg1q8ru0.cloudfront.ne
 t/2024/11/05/04/46/02/81f3fea3-71a7-472a-92cd-3c3985cbe30a/2.png
END:VEVENT
END:VCALENDAR
